BEGIN:VCALENDAR
VERSION:2.0
PRODID:-//ISCD - ECPv6.15.10//NONSGML v1.0//EN
CALSCALE:GREGORIAN
METHOD:PUBLISH
X-WR-CALNAME:ISCD
X-ORIGINAL-URL:https://iscd.org
X-WR-CALDESC:Events for ISCD
REFRESH-INTERVAL;VALUE=DURATION:PT1H
X-Robots-Tag:noindex
X-PUBLISHED-TTL:PT1H
BEGIN:VTIMEZONE
TZID:America/New_York
BEGIN:DAYLIGHT
TZOFFSETFROM:-0500
TZOFFSETTO:-0400
TZNAME:EDT
DTSTART:20200308T070000
END:DAYLIGHT
BEGIN:STANDARD
TZOFFSETFROM:-0400
TZOFFSETTO:-0500
TZNAME:EST
DTSTART:20201101T060000
END:STANDARD
BEGIN:DAYLIGHT
TZOFFSETFROM:-0500
TZOFFSETTO:-0400
TZNAME:EDT
DTSTART:20210314T070000
END:DAYLIGHT
BEGIN:STANDARD
TZOFFSETFROM:-0400
TZOFFSETTO:-0500
TZNAME:EST
DTSTART:20211107T060000
END:STANDARD
BEGIN:DAYLIGHT
TZOFFSETFROM:-0500
TZOFFSETTO:-0400
TZNAME:EDT
DTSTART:20220313T070000
END:DAYLIGHT
BEGIN:STANDARD
TZOFFSETFROM:-0400
TZOFFSETTO:-0500
TZNAME:EST
DTSTART:20221106T060000
END:STANDARD
END:VTIMEZONE
BEGIN:VEVENT
DTSTART;VALUE=DATE:20210303
DTEND;VALUE=DATE:20210307
DTSTAMP:20260425T103416
CREATED:20200529T095720Z
LAST-MODIFIED:20200529T095720Z
UID:10000001-1614729600-1615075199@iscd.org
SUMMARY:ISCD 27th Annual Meeting
DESCRIPTION:We cordially invite you to join us for ISCD’s 27th Annual Meeting – Global Excellence Through Densitometry in the Digital Era. This will be ISCD’s first virtual conference\, but that doesn’t mean you will miss out on any of the learning or networking opportunities you have come to expect from ISCD. \nThe theme of our meeting embraces a global perspective on densitometry\, and our virtual platform will allow us to provide a truly international experience. The conference will feature live-streaming talks across time zones spanning North and South America\, Asia Pacific and Europe. Attendees will also have access to on-demand sessions available at any time from March 3-6. Participants may join live chats with renowned experts during “themed office hours” tailored to sought-after topics like FRAX\, TBS and interesting cases. And don’t forget ISCD’s networking sessions for interest groups in the areas of Pediatrics\, Rheumatology\, Radiology and more! \nThis year’s program will showcase topics that speak to ISCD’s forays into the digital era\, including osteoporosis management during the pandemic and therapies on the horizon. Demos/chat sessions with our sponsors will also grant insight into some of the most cutting-edge technologies/new developments in the field. \n[efsbutton style=”” size=”” color_class=”” align=”left” type=”link” target=”false” title=”Register Now” link=”https://my.iscd.org/Events/Calendar-Of-Events/Registration-Start?MeetingId=667e63f5-59d6-ea11-a813-000d3a191e87″] [efsbutton style=”” size=”” color_class=”” align=”left” type=”link” target=”false” title=”Visit our Annual Meeting Website” link=”https://am.iscd.org/”]
URL:https://iscd.org/event/iscd-27th-annual-meeting/
LOCATION:DC
CATEGORIES:Corporate
ATTACH;FMTTYPE=:
END:VEVENT
BEGIN:VEVENT
DTSTART;TZID=America/New_York:20210314T080000
DTEND;TZID=America/New_York:20210316T170000
DTSTAMP:20260425T103416
CREATED:20201009T132921Z
LAST-MODIFIED:20201009T132921Z
UID:10000019-1615708800-1615914000@iscd.org
SUMMARY:IFMRS H Fleisch Online Workshop
DESCRIPTION:IFMRS H Fleisch Week virtual workshops: 15-19 March 2021\nFrom 15-19 March 2021\, the IFMRS will be hosting three 90-minute virtual workshops led by an international group of experts in the field of musculoskeletal research. \nWorkshops will include one or more presentations followed by a facilitated discussion and are certain to be informative\, stimulating and engaging. Tickets are free to all members of IFMRS member organizations. \nLearn more and book your ticket at:\nwww.ifmrs.org/h-fleisch-workshop-2021/ \nISCD members can attend virtual for free and are encouraged to register interest on IFMRS website.
URL:https://iscd.org/event/ifmrs-h-fleisch-online-workshop/
LOCATION:DC
CATEGORIES:Non-ISCD event
ATTACH;FMTTYPE=:
END:VEVENT
END:VCALENDAR