BEGIN:VCALENDAR
VERSION:2.0
PRODID:-//ISCD - ECPv6.15.10//NONSGML v1.0//EN
CALSCALE:GREGORIAN
METHOD:PUBLISH
X-ORIGINAL-URL:https://iscd.org
X-WR-CALDESC:Events for ISCD
REFRESH-INTERVAL;VALUE=DURATION:PT1H
X-Robots-Tag:noindex
X-PUBLISHED-TTL:PT1H
BEGIN:VTIMEZONE
TZID:America/New_York
BEGIN:DAYLIGHT
TZOFFSETFROM:-0500
TZOFFSETTO:-0400
TZNAME:EDT
DTSTART:20200308T070000
END:DAYLIGHT
BEGIN:STANDARD
TZOFFSETFROM:-0400
TZOFFSETTO:-0500
TZNAME:EST
DTSTART:20201101T060000
END:STANDARD
BEGIN:DAYLIGHT
TZOFFSETFROM:-0500
TZOFFSETTO:-0400
TZNAME:EDT
DTSTART:20210314T070000
END:DAYLIGHT
BEGIN:STANDARD
TZOFFSETFROM:-0400
TZOFFSETTO:-0500
TZNAME:EST
DTSTART:20211107T060000
END:STANDARD
BEGIN:DAYLIGHT
TZOFFSETFROM:-0500
TZOFFSETTO:-0400
TZNAME:EDT
DTSTART:20220313T070000
END:DAYLIGHT
BEGIN:STANDARD
TZOFFSETFROM:-0400
TZOFFSETTO:-0500
TZNAME:EST
DTSTART:20221106T060000
END:STANDARD
END:VTIMEZONE
BEGIN:VEVENT
DTSTART;VALUE=DATE:20210506
DTEND;VALUE=DATE:20210509
DTSTAMP:20260421T050021
CREATED:20210217T170317Z
LAST-MODIFIED:20210217T170317Z
UID:10000024-1620259200-1620518399@iscd.org
SUMMARY:48th European Calcified Tissue Society Congress
DESCRIPTION:  \n  \n  \n  \n  \n  \n[efsbutton style=”” size=”” color_class=”” align=”left” type=”link” target=”false” title=”Register for this event” link=”https://www.ects2020.org/”]\n  \nNo matter where you are in the world\, this year you can join ECTS 2021 – Digital Congress. \nThe year 2020 gave us the challenge but unique opportunity of holding our first ECTS Digital Congress.  We continued with our mission to provide with a forum for researchers and clinicians working in the musculoskeletal field\,  to discuss the latest advances and controversies in research and in the daily care of patients.  We brought to the comfort of your office 3 months of education and science. \nAs we are hearing your experience and your needs\, we are fine-tuning our congress all the way\, to make #ECTS2021 even better than before. The Digital Congress will be divided in two parts: a Live Prime Time on 6-8 May 2021 and 5 days of ECTS@Home on 19-20 May\, 10-11 June and 18 June 2021.  As we are trantionnining the Scientific Programme into the Digital format\, please save these dates in your diary. \n[efsbutton style=”” size=”” color_class=”” align=”left” type=”link” target=”false” title=”Register for this event” link=”https://www.ects2020.org/”]\n 
URL:https://iscd.org/event/48th-european-calcified-tissue-society-congress/
LOCATION:DC
ATTACH;FMTTYPE=:
END:VEVENT
BEGIN:VEVENT
DTSTART;TZID=America/New_York:20210526T190000
DTEND;TZID=America/New_York:20210526T200000
DTSTAMP:20260421T050021
CREATED:20210513T164258Z
LAST-MODIFIED:20210513T164258Z
UID:10000025-1622055600-1622059200@iscd.org
SUMMARY:The Diagnosis and Management of Osteoporosis CME Webinar (Sponsored by Hologic)
DESCRIPTION:Overview\nThis one hour seminar will cover the basics that the primary physician needs in order to diagnose and manage osteoporosis in their patients. \nTarget Audience\nPracticing physicians who will include the diagnosis and treatment of osteoporosis in their practice; this should include internists\, gynecologists\, and family practitioners. \nActivity Goal\nThis activity is designed to address the following core team competencies: Patient Care and Medical Knowledge. \n[efsbutton style=”” size=”” color_class=”” align=”left” type=”link” target=”false” title=”Register now” link=”https://cine-med.com/osteoporosis/register.php”]\nAgenda\n\n7:00 pm – Introduction and lecture by Dr. Rosen\n7:45 pm – Question and Answer session\n8:00 pm – Adjourn\n\nLearning Objectives\n\nIdentify which patients to select for bone density\nIdentify which patients to select for screening for vertebral fractures with VFA\nIdentify which patients to select for screening for atypical femur fracture with full-length femur imaging\nRecognize which patients should be treated for osteoporosis\, and among them\, those who should begin first with anabolic treatment\nDescribe the different treatment options for osteoporosis\n\n\n\n\nAccreditation\nIn support of improving patient care\, CineMed is jointly accredited by the Accreditation Council for Continuing Medical Education (ACCME)\, the Accreditation Council for Pharmacy Education (ACPE)\, and the American Nurses Credentialing Center (ANCC)\, to provide continuing education for the healthcare team. \nCineMed designates this live activity for a maximum of 1 AMA PRA Category 1 Credits™. Physicians should only claim the credit commensurate with the extent of their participation in the activity. \n \n\n\n\n\n\nSpeaker\n\n\n\n\n \nHarold N. Rosen\, MD\nDirector – Osteoporosis Prevention and Treatment Center\nBeth Israel Deaconess Medical Center\nBoston\, MA \n\nDr. Harold Rosen did fellowships in Endocrinology and Geriatrics at Beth Israel Hospital in Boston. He spent years doing clinical research in osteoporosis\, when he investigated the relationship between vitamin K and bone\, thyroid hormone-induced bone loss\, and the role of biochemical markers of bone turnover. In 1998 he became the Director of the Osteoporosis Prevention and Treatment Center at Beth Israel Deaconess Medical Center in Boston. In this capacity he runs bone densitometry\, sees patients in consultation for osteoporosis and metabolic bone disease\, and does research on optimizing performance and reporting of bone densitometry. He has been active in his professional society\, the ISCD (International Society for Clinical Densitometry) where he served on the Board of Directors from 2010-2013. Dr. Rosen is the recipient of the ISCD Clinician of the year Award in 2010\, and the recipient of the Paul Miller award for service to the ISCD in 2017. \n[efsbutton style=”” size=”” color_class=”” align=”left” type=”link” target=”false” title=”Register now” link=”https://cine-med.com/osteoporosis/register.php”]\nSupport\nThis activity is supported by an unrestricted educational grant from Hologic. \nContact\nThe administrator for this event is Ronda Hannon who can be reached at 203-263-0006 x107 \n 
URL:https://iscd.org/event/the-diagnosis-and-management-of-osteoporosis-cme-webinar-sponsored-by-hologic/
LOCATION:DC
CATEGORIES:Non-ISCD event
ATTACH;FMTTYPE=:
END:VEVENT
END:VCALENDAR