BEGIN:VCALENDAR
VERSION:2.0
PRODID:-//ISCD - ECPv6.15.10//NONSGML v1.0//EN
CALSCALE:GREGORIAN
METHOD:PUBLISH
X-ORIGINAL-URL:https://iscd.org
X-WR-CALDESC:Events for ISCD
REFRESH-INTERVAL;VALUE=DURATION:PT1H
X-Robots-Tag:noindex
X-PUBLISHED-TTL:PT1H
BEGIN:VTIMEZONE
TZID:America/New_York
BEGIN:DAYLIGHT
TZOFFSETFROM:-0500
TZOFFSETTO:-0400
TZNAME:EDT
DTSTART:20200308T070000
END:DAYLIGHT
BEGIN:STANDARD
TZOFFSETFROM:-0400
TZOFFSETTO:-0500
TZNAME:EST
DTSTART:20201101T060000
END:STANDARD
BEGIN:DAYLIGHT
TZOFFSETFROM:-0500
TZOFFSETTO:-0400
TZNAME:EDT
DTSTART:20210314T070000
END:DAYLIGHT
BEGIN:STANDARD
TZOFFSETFROM:-0400
TZOFFSETTO:-0500
TZNAME:EST
DTSTART:20211107T060000
END:STANDARD
BEGIN:DAYLIGHT
TZOFFSETFROM:-0500
TZOFFSETTO:-0400
TZNAME:EDT
DTSTART:20220313T070000
END:DAYLIGHT
BEGIN:STANDARD
TZOFFSETFROM:-0400
TZOFFSETTO:-0500
TZNAME:EST
DTSTART:20221106T060000
END:STANDARD
END:VTIMEZONE
BEGIN:VEVENT
DTSTART;TZID=America/New_York:20210911T100000
DTEND;TZID=America/New_York:20210912T143000
DTSTAMP:20260421T050732
CREATED:20201214T140221Z
LAST-MODIFIED:20201214T140221Z
UID:10000021-1631354400-1631457000@iscd.org
SUMMARY:Quality Bone Densitometry For Technologists (livestream via Zoom)
DESCRIPTION:[vc_row][vc_column][vc_column_text]\nQuality Bone Densitometry: Performance\, Interpretation\, and Clinical Application for Technologists\nOffered livestream (via Zoom)\n*Note:  The livestream course will not be recorded. \nRegistration for this course has closed. If you are registered for this course\, access your materials here.\nAn Osteoporosis Essentials Course of the International Society for Clinical Densitometry & International Osteoporosis Foundation\nThe core elements of this program focus on performing quality DXA scans\, dissecting the data and applying this knowledge to a technologist’s role in patient care. This course\, which focuses on quality DXA\, is innovative\, interactive and informative. The course emphasizes technical excellence in the performance\, analysis\, and troubleshooting of bone densitometry scans. The course will provide standard practices and applications to raise the quality of DXA scan procedures and their impact on patient care. This is achieved by enhancing awareness of the technical expertise involved in performing bone densitometry and applying protocols to address everyday challenges. The course focuses on the considerable impact that a technologist plays in the delivery of quality DXA\, and how that influences patient management. \nPre-requisite and optional videos are included in the registration fees. Access to that content will be made available to registered participants 30 days prior to the course start date through the ISCD online education portal. \nTarget Audience:\nThis course is appropriate for those involved in the performance of DXA scans and open to any health professional performing these scans. \nCourse Schedule (All Times Listed in US Eastern Time)\nPre-requisites \n\n\n\nVideo A – Overview of Osteoporosis\nVideo B – Fundamentals of Bone Densitometry\, Physics\, Radiation Safety\, and Quality Assurance\nOptional Video C – What US Healthcare Providers Need to Know about DXA for Patient Care\n\n\n\nDay 1: The Importance of the Technologist in patient care and quality performance of DXA Scans\nDay 1 Objectives: After attending the course\, participants should be better prepared to: \n\nDesign and implement quality control and assurance practices\nPerform a precision assessment and appreciate the requirement for clinical care\nIdentify the anatomy relevant to clinical DXA scanning\nImplement consistent and appropriate technical acquisition and analysis techniques\nPerform a fracture risk assessment using FRAX\n\nDay 1 Schedule \n\n\n\n10:00am – 11:30am\nLecture 1: Elements of a Quality DXA Practice\n\n\n11:30am – 11:35am\n5-minute break\n\n\n11:35am – 12:35pm\nLecture 2: Lumbar Spine Scans-Elements Critical to Quality\n\n\n12:35pm – 12:40pm\n5-minute break\n\n\n12:40pm – 2:10pm\nLecture 3: Femur & Forearm Scans\n\n\n2:10pm – 2:40pm\nQ&A Lunch Session\n\n\n2:40pm – 3:25pm\nLecture 4: Scan Interpretation & Fracture Risk Assessment\n\n\n3:25pm – 3:55pm\nLecture 5: Supplemental DXA Applications\n\n\n3:55pm – 4:00pm\n5-minute break\n\n\n4:00pm – 4:45pm\nLecture 6: Application of DXA Tools & Software Features\n\n\n\nDay 2: The Importance of Understanding and Applying the Science and Language of Densitometry\nDay 2 Objectives: After attending the course\, participants should be better prepared to: \n\nProvide DXA interpreters sufficient information for a high-quality DXA report\nUnderstand how specific medical conditions and medications affect bone density\nDemonstrate how to access features within the DXA software\nCritically evaluate DXA scans to identify acquisition and analysis errors and implement resolution methods\nRecognize how technical errors impact clinical interpretation and patient care\n\nDay 2 Schedule \n\n\n\n10:00am – 10:45am\nLecture 7: Principles of Quality DXA and Clinical Cases\n\n\n10:45am – 11:45am\nLecture 8: Clinical Management of the Osteoporotic Patient\n\n\n11:45am – 12:00pm\n15-minute break\n\n\n12:00pm – 12:30pm\nLecture 9: Clinical Application\n\n\n12:30pm – 1:30pm\nLecture 10: Technical Cases\n\n\n1:30pm – 2:30pm\nClosing Q&A Session\n\n\n\nCourse Continuing Education Credits: \nThis activity is approved by ASRT for 11.50 Category A continuing education credits. Partial credit will not be given for either day. This activity can be used toward the RT Structured Education and CQR requirements for the ARRT. \nCourse Registration Rates\n[efstable width =”100%”]\n[efstable_head]\n[efsth_column]Full Member Rate[/efsth_column]\n[efsth_column]Professional\, Community & Non- member Rate[/efsth_column]\n[/efstable_head]\n[efstable_body]\n[efstable_row]\n[efsrow_column]$225[/efsrow_column]\n[efsrow_column]$325[/efsrow_column]\n[/efstable_row]\n[/efstable_body]\n[/efstable]\nPolicies\nPolicy on Commercial Support and Conflict of Interest\nThe ISCD maintains a policy on the use of commercial support\, which ensures that all educational activities sponsored by the ISCD provide in-depth presentations that are fair\, balanced\, independent\, and scientifically rigorous. ISCD requires faculty\, planners\, managers and other individuals and their spouse/ life partner who are in a position to control the content of this activity to disclose any real or apparent conflict of interest they may have as related to the content of this activity. All identified conflicts of interest are thoroughly vetted by ISCD for fair balance\, scientific objectivity of studies mentioned in the materials or used as the basis for content\, and appropriateness of patient care recommendations. Individual disclosures are included in course material. \nDisclaimer\nThe information and suggestions presented at the courses\, seminars and other programs sponsored by ISCD and other collaborating societies are subject to change and therefore should serve only as a foundation for further investigation and study. Any forms presented at our seminars or programs are samples only and are not necessarily authoritative. All information\, procedures\, and forms contained or used in such seminars or programs should serve only as a guide for use in specific situations. \nAttendance Cancellation Policy\nAll changes in registration must be made in writing to education@iscd.org. Cancellations received 14 days prior to the start of the program are eligible for a full refund minus $50 administrative fee. Cancellations received less than 7 days prior to the start of the course will not be refunded. \nCourse Changes or Cancellations\nISCD reserves the right to cancel the program and/or change dates. If a program is canceled\, all program fees will be refunded automatically unless the registered participant elects to transfer to another program Participants will be notified of any changes within 14 days of the course start date. \nDisability Compliance\nThe ISCD fully complies with the legal requirements of the Americans with Disabilities Act. If you require special accommodations to participate fully in the ISCD program\, please contact us as soon as possible so we can make appropriate accommodations.  You can make accommodation requests by calling 860.259.1000 ext 100 or send via email to education@iscd.org. \n[/vc_column_text][/vc_column][/vc_row]
URL:https://iscd.org/event/seattle-wa-quality-bone-densitometry-for-technologists/
LOCATION:DC
CATEGORIES:ISCD Events
ATTACH;FMTTYPE=:
END:VEVENT
BEGIN:VEVENT
DTSTART;TZID=America/New_York:20210911T100000
DTEND;TZID=America/New_York:20210912T173000
DTSTAMP:20260421T050732
CREATED:20201214T133736Z
LAST-MODIFIED:20201214T133736Z
UID:10000020-1631354400-1631467800@iscd.org
SUMMARY:Quality Bone Densitometry For Clinicians (livestream via Zoom)
DESCRIPTION:[vc_row][vc_column][vc_column_text]\nQuality Bone Densitometry: Performance\, Interpretation\, and Clinical Application for Clinicians\nOffered livestream via Zoom\n*Note:  The livestreamed course will not be recorded. \nRegistration for this course has closed. If you are registered for this course\, access your materials here.\nAn Osteoporosis Essentials Course of the International Society for Clinical Densitometry & International Osteoporosis Foundation\nThe core elements of this course serve to educate healthcare providers about bone densitometry and osteoporosis and to apply standard practices to assure quality performance and interpretation of bone densitometry studies. The course is offered in two parts. The first day sets the standard to perform Quality DXA interpretation. Day 2 focuses on the clinical assessment\, prevention\, treatment and management of osteoporosis and the essential role that high-quality DXA plays in treatment initiation decisions and monitoring of osteoporotic patients. Individuals may register for either part of the course separately or as a combined program. \nPrerequisite videos are included in the registration fees. Access to that content will be made available to registrants through the ISCD online education website 30 days prior to the course. \nTarget Audience:\nThe course is most appropriate for those involved in the performance and interpretation of DXA scans and those managing patients with osteoporosis.  It is open to MDs\, PhDs\, DOs\, Nurse Practitioners\, and Physician Assistants.  Technologists may attend if they have previously taken the ISCD QBD for Technologists Course. \nAccreditation Statement:\nThe International Society for Clinical Densitometry is accredited by the Accreditation Council for Continuing Medical Education (ACCME) to provide continuing medical education for physicians. \nOverall Course Objectives:\nAfter attending the course\, participants should be better prepared to: \n\nDescribe appropriate clinical evaluation of patients at risk for fragility fracture.\nSummarize the value and importance of quality bone densitometry for the diagnosis of osteoporosis\, assessment of fracture risk\, and monitoring of BMD.\nRecognize errors in DXA analysis and reporting.\nExplain new and emerging guidelines that provide evidence-based information regarding skeletal health.\nDescribe the use of current and new pharmacologic therapies for the management and treatment of osteoporosis\, including adverse effects.\n\nDXA Interpretation for Clinicians the Importance of Doing a Quality DXA Scan and Quality DXA Reporting (DAY 1)\nPre-requisites \n\nVideo A Overview of Osteoporosis\nVideo B Fundamentals of Bone Densitometry\, Physics\, Radiation Safety\, and Quality Assurance\nVideo C What US Healthcare Professionals Need to Know About DXA\n\nCourse Schedule (All Times Listed in US Eastern Time) \nDay 1 DXA Interpretation for Clinicians The Importance of Doing a Quality DXA Scan and Quality DXA Reporting\n\n\n\n10:00am to 11:30am\nLecture 1: Principles of DXA Interpretation\n\n\n11:30am to 11:35am\nBreak (5 minutes)\n\n\n11:35am to 12:35pm\nLecture 2: How to Diagnose Osteoporosis\n\n\n12:35pm to 12:40pm\nBreak (5 minutes)\n\n\n12:40pm to 1:10pm\nQ&A Lunch Session\n\n\n1:10pm to 2:10pm\nLecture 3: How to Assess Fracture Risk\n\n\n2:10pm to 2:15pm\nBreak (5 minutes)\n\n\n2:15pm to 3:15pm\nLecture 4: How to Monitor BMD Change Over Time\n\n\n3:15pm to 3:20pm\nBreak (5 minutes)\n\n\n3:20pm to 4:20pm\nLecture 5: How to Interpret and Report DXA Scans\n\n\n4:20pm to 4:25pm\nBreak (5 minutes)\n\n\n4:25pm to 5:25pm\nClosing Q&A Session\n\n\n\n Day 2 DXA and Patient Care for Clinicians Using Quality DXAs in Patient Care\n\n\n\n10:00am to 11:00am\nLecture 6: Can You Trust This DXA Report?\n\n\n11:00am to 11:05am\nBreak (5 minutes)\n\n\n11:05am to 12:05am\nLecture 7: Clinical Evaluation of Bone Health\nand Fracture Risk\n\n\n12:05am to 12:10am\nBreak (5 minutes)\n\n\n12:10am to 1:10pm\nLecture 8: Clinical Management Part I:\nNon-pharmacologic therapy\n\n\n1:10pm to 1:15pm\nBreak (5 minutes)\n\n\n1:15pm to 1:45pm\nQ&A Lunch session\n\n\n1:45pm to 2:45pm\nLecture 9: Pharmacologic Therapy for Osteoporosis\n\n\n2:45pm to 2:50pm\nBreak (5 minutes)\n\n\n2:50pm to 3:50pm\nLecture 10: Clinical Management Part II: Adverse Effects\nof Osteoporosis Medications\,\nCombination Therapy and Drug Holidays\n\n\n3:50pm to 3:55pm\nBreak (5 minutes)\n\n\n3:55pm to 4:55pm\nLecture 11: Case Discussions\n\n\n4:55pm to 5:00pm\nBreak (5 minutes)\n\n\n5:00pm to 5:30pm\nClosing Q&A Session\n\n\n\nAMA PRA Category 1 Credit(s)\nThe International Society for Clinical Densitometry designates this live educational activity for a maximum of 11.5 AMA PRA Category 1 Credits. Physicians should only claim credits commensurate with the extent of their participation in the activity. \nCourse Registration Fees\n[efstable width =”100%”]\n[efstable_head]\n[efsth_column][/efsth_column]\n[efsth_column]Full Member Rate[/efsth_column]\n[efsth_column]Professional\, Community & Non-member Rate[/efsth_column]\n[/efstable_head]\n[efstable_body]\n[efstable_row]\n[efsrow_column]1 Day only [/efsrow_column]\n[efsrow_column]$250[/efsrow_column]\n[efsrow_column]$450[/efsrow_column]\n[/efstable_row]\n[efstable_row]\n[efsrow_column]2 Days [/efsrow_column]\n[efsrow_column]$375[/efsrow_column]\n[efsrow_column]$575[/efsrow_column]\n[/efstable_row]\n[efstable_row]\n[/efstable_row]\n[/efstable_body]\n[/efstable]\nPolicy on Commercial Support and Conflict of Interest\nThe ISCD maintains a policy on the use of commercial support\, which ensures that all educational activities sponsored by the ISCD provide in-depth presentations that are fair\, balanced\, independent\, and scientifically rigorous. All faculty and planners are required to complete a Conflict of Interest form. This information will be made available through course syllabus materials. \nDisclaimer\nThe information and suggestions presented at the courses\, seminars and other programs sponsored by ISCD and other collaborating societies are subject to change and therefore should serve only as a foundation for further investigation and study. Any forms presented at our seminars or programs are samples only and are not necessarily authoritative. All information\, procedures\, and forms contained or used in such seminars or programs should serve only as a guide for use in specific situations. \nAttendance Cancellation Policy\nAll changes in registration must be made in writing to education@iscd.org. Cancellations received 14 days prior to the start of the program are eligible for a full refund minus a $50 administrative fee. Cancellations received less than 7 days prior to the start of the course will not be refunded. \nCourse Changes or Cancellations\nISCD reserves the right to cancel the program\, change dates and/or meeting location. If a program is canceled\, all program fees will be refunded automatically unless the registered participant elects to transfer to another program Participants will be notified of any changes within 7 days of the course start date. \nDisability Compliance\nThe ISCD fully complies with the legal requirements of the Americans with Disabilities Act. If you require special accommodations to participate fully in the ISCD program\, please contact us as soon as possible so we can make appropriate accommodations. You can make accommodation requests by calling 860.259.1000 ext100 or send via email to education@iscd.org. \n[/vc_column_text][/vc_column][/vc_row]
URL:https://iscd.org/event/seattle-wa-quality-bone-densitometry-for-clinicians/
LOCATION:DC
CATEGORIES:ISCD Events
ATTACH;FMTTYPE=:
END:VEVENT
END:VCALENDAR