BEGIN:VCALENDAR
VERSION:2.0
PRODID:-//ISCD - ECPv6.15.10//NONSGML v1.0//EN
CALSCALE:GREGORIAN
METHOD:PUBLISH
X-WR-CALNAME:ISCD
X-ORIGINAL-URL:https://iscd.org
X-WR-CALDESC:Events for ISCD
REFRESH-INTERVAL;VALUE=DURATION:PT1H
X-Robots-Tag:noindex
X-PUBLISHED-TTL:PT1H
BEGIN:VTIMEZONE
TZID:America/New_York
BEGIN:DAYLIGHT
TZOFFSETFROM:-0500
TZOFFSETTO:-0400
TZNAME:EDT
DTSTART:20240310T070000
END:DAYLIGHT
BEGIN:STANDARD
TZOFFSETFROM:-0400
TZOFFSETTO:-0500
TZNAME:EST
DTSTART:20241103T060000
END:STANDARD
BEGIN:DAYLIGHT
TZOFFSETFROM:-0500
TZOFFSETTO:-0400
TZNAME:EDT
DTSTART:20250309T070000
END:DAYLIGHT
BEGIN:STANDARD
TZOFFSETFROM:-0400
TZOFFSETTO:-0500
TZNAME:EST
DTSTART:20251102T060000
END:STANDARD
BEGIN:DAYLIGHT
TZOFFSETFROM:-0500
TZOFFSETTO:-0400
TZNAME:EDT
DTSTART:20260308T070000
END:DAYLIGHT
BEGIN:STANDARD
TZOFFSETFROM:-0400
TZOFFSETTO:-0500
TZNAME:EST
DTSTART:20261101T060000
END:STANDARD
END:VTIMEZONE
BEGIN:VEVENT
DTSTART;TZID=America/New_York:20250808T080000
DTEND;TZID=America/New_York:20250809T170000
DTSTAMP:20260424T134712
CREATED:20241212T140615Z
LAST-MODIFIED:20241212T140615Z
UID:10000108-1754640000-1754758800@iscd.org
SUMMARY:Santa Fe Bone Symposium 2025
DESCRIPTION:SAVE THE DATE\nAugust 8-9\, 2025 \n  \nRegistration opens  \nJanuary 1\, 2025!
URL:https://iscd.org/event/santa-fe-bone-symposium-2025/
LOCATION:DC
CATEGORIES:Non-ISCD event
ATTACH;FMTTYPE=:
END:VEVENT
END:VCALENDAR